BEGIN:VCALENDAR
VERSION:2.0
PRODID:-//Sixthman Festival Calendar//EN
CALSCALE:GREGORIAN
METHOD:PUBLISH
BEGIN:VEVENT
DTSTART;TZID=America/New_York:20260424T130000
DTEND;TZID=America/New_York:20260424T130000
LOCATION:https://www.edsea.com/prices/
TRANSP:OPAQUE
UID:34342483@sixthman.net
DTSTAMP:20260425T182124Z
SUMMARY:EDSea First Available
DESCRIPTION:EDSea Potential First Available Stateroom drops!
CLASS:PUBLIC
X-MICROSOFT-CDO-BUSYSTATUS:FREE
STATUS:CONFIRMED
RRULE:FREQ=WEEKLY;UNTIL=20261227T000000
BEGIN:VALARM
TRIGGER:-PT15M
ACTION:DISPLAY
DESCRIPTION:EDSea First Available
END:VALARM
END:VEVENT
END:VCALENDAR
